﻿
BEGIN:VCALENDAR
VERSION:2.0
PRODID:-//wp-events-plugin.com//6.4.7.2//EN
BEGIN:VEVENT
UID:160@ajils.fr
DTSTART:20240523T220000Z
DTEND:20240523T220000Z
DTSTAMP:20240517T062829Z
URL:https://www.ajils.fr/events/visite-de-lisle-adam-et-du-pavillon-chinoi
 s
SUMMARY:Sortie annulée
DESCRIPTION:&nbsp\;\n\n\n
END:VEVENT
END:VCALENDAR